BEGIN:VCALENDAR
VERSION:2.0
PRODID:-//URACult e.V. - ECPv6.15.20//NONSGML v1.0//EN
CALSCALE:GREGORIAN
METHOD:PUBLISH
X-ORIGINAL-URL:https://www.uracult.com
X-WR-CALDESC:Veranstaltungen für URACult e.V.
REFRESH-INTERVAL;VALUE=DURATION:PT1H
X-Robots-Tag:noindex
X-PUBLISHED-TTL:PT1H
BEGIN:VTIMEZONE
TZID:Europe/Berlin
BEGIN:DAYLIGHT
TZOFFSETFROM:+0100
TZOFFSETTO:+0200
TZNAME:CEST
DTSTART:20230326T010000
END:DAYLIGHT
BEGIN:STANDARD
TZOFFSETFROM:+0200
TZOFFSETTO:+0100
TZNAME:CET
DTSTART:20231029T010000
END:STANDARD
BEGIN:DAYLIGHT
TZOFFSETFROM:+0100
TZOFFSETTO:+0200
TZNAME:CEST
DTSTART:20240331T010000
END:DAYLIGHT
BEGIN:STANDARD
TZOFFSETFROM:+0200
TZOFFSETTO:+0100
TZNAME:CET
DTSTART:20241027T010000
END:STANDARD
BEGIN:DAYLIGHT
TZOFFSETFROM:+0100
TZOFFSETTO:+0200
TZNAME:CEST
DTSTART:20250330T010000
END:DAYLIGHT
BEGIN:STANDARD
TZOFFSETFROM:+0200
TZOFFSETTO:+0100
TZNAME:CET
DTSTART:20251026T010000
END:STANDARD
END:VTIMEZONE
BEGIN:VEVENT
DTSTART;TZID=Europe/Berlin:20241129T183000
DTEND;TZID=Europe/Berlin:20241201T200000
DTSTAMP:20260422T032256
CREATED:20241121T190928Z
LAST-MODIFIED:20241216T180931Z
UID:4380-1732905000-1733083200@www.uracult.com
SUMMARY:10 VJET - JAHRE URACult e. V.
DESCRIPTION:  \n  \n  \n  \n  \n \n  \n  \n\n\n\n\n\n\nFestojmë 10 vjet URACult! Wir feiern 10 Jahre URACult! 29.11. – 01.12.2024ALTES PFANDHAUS KÖLN \nJu ftojmë përzemërsisht të festoni me ne jubileun e 10. të URACult!Wir laden Sie herzlich ein\, das 10-jährige Jubiläum von URACult mit uns zu feiern! \n2014 gegründet\, fördern wir Kunst und kulturelle Vielfalt und schaffen unvergessliche Erlebnisse. Seit einem Jahrzehnt haben wir unzählige kreative und inspirierende Veranstaltungen organisiert\, Kunst- und Kulturschaffende aus verschiedenen Ländern unterstützt und viele wunderbare Men- schen zusammengebracht. \nAus diesem Anlass möchten wir allen einen großen Dank aussprechen\, deren Engagement und zahlreichen Spenden diese spannende und erfolgreiche Mission ermöglicht haben. \nFür das Jubiläum haben wir ein buntes Programm organisiert. Infos finden Sie auf der folgenden Seite. \nViel Spaß! Kaloni bukur! \n\n\n\n\n\n  \nFreuen Sie sich auf unser Programm: \nE premte/Freitag\, 29.11.2024 \n18:30 Pritje me sekt/Sektempfang18:45 Ekspozitë fotografish/Fotografieausstellung DASH IZAIRI\, ANDREA SHKRELI19:15 Fjalime përshëndetëse dhe prezentim „10 vjet URACult“/ Grussworte und Präsentation „10 Jahre URACult“.19:45 Panel diskutimi/Diskussionsrunde (Sabina Curraj)21:15 Program muzikor/Musikalisches Programm VISAR KASA \nE shtunë/Samstag\, 30.11.2024 \n15:00 Hapja e tryezës me specialiteteve shqiptare/Eröffnung kulinarische Ecke (alb. Spezialitäten) 15:30 Kurs vallëzimi shqip për të rritur nga mosha 16 vj./Albanischer Tanzkurs für Erwachsene ab 16 J. (Visar Bakolli)17:15 Stand Up komedi/Stand Up ComedyAVNI SHKODRA\, VALINA MUÇOLLI\, KUSHTRIM QERIMI19:00 Program muzikor/Musikalisches Programm \nALBANA BILALLI\, FATON LAHAJ\, ROMAN KUSHNIAROU\, HERNAN MARTINEZ \n21:00 PARTY \nE dielë/Sonntag\, 01.12.2024 \n12:00 Tryeza e ëmbëlsirave shqiptare & kafe/ Buffet mit albanischen Süßigkeiten & Kaffee12:00 – 13:30 Punëtori arti (vizatim) për pjesëmarrës/e nga mosha 8-16 vjeçare / Workshop „Zeichnen“für Kinder im Alter 8-16 Jahre (Nazim Sukubina)13.45 – 15.15 Kurs vallëzimi shqip për fëmijë\, 7-15 vj. /Albanischer Tanzkurs für Kinder\, 8-15 J.(Visar Bakolli)15.30 – 17.00 Uhr Skena e talentëve të rinj/ Bühne für junge Talente „URACult Junior“(Daniela Vathi)
URL:https://www.uracult.com/event/gert-kapo-quartett-2-2/
ATTACH;FMTTYPE=image/png:https://www.uracult.com/wp-content/uploads/Insta_1.png
END:VEVENT
END:VCALENDAR