BEGIN:VCALENDAR
VERSION:2.0
PRODID:-//URACult e.V. - ECPv6.15.20//NONSGML v1.0//EN
CALSCALE:GREGORIAN
METHOD:PUBLISH
X-WR-CALNAME:URACult e.V.
X-ORIGINAL-URL:https://www.uracult.com
X-WR-CALDESC:Veranstaltungen für URACult e.V.
REFRESH-INTERVAL;VALUE=DURATION:PT1H
X-Robots-Tag:noindex
X-PUBLISHED-TTL:PT1H
BEGIN:VTIMEZONE
TZID:Europe/Berlin
BEGIN:DAYLIGHT
TZOFFSETFROM:+0100
TZOFFSETTO:+0200
TZNAME:CEST
DTSTART:20240331T010000
END:DAYLIGHT
BEGIN:STANDARD
TZOFFSETFROM:+0200
TZOFFSETTO:+0100
TZNAME:CET
DTSTART:20241027T010000
END:STANDARD
BEGIN:DAYLIGHT
TZOFFSETFROM:+0100
TZOFFSETTO:+0200
TZNAME:CEST
DTSTART:20250330T010000
END:DAYLIGHT
BEGIN:STANDARD
TZOFFSETFROM:+0200
TZOFFSETTO:+0100
TZNAME:CET
DTSTART:20251026T010000
END:STANDARD
BEGIN:DAYLIGHT
TZOFFSETFROM:+0100
TZOFFSETTO:+0200
TZNAME:CEST
DTSTART:20260329T010000
END:DAYLIGHT
BEGIN:STANDARD
TZOFFSETFROM:+0200
TZOFFSETTO:+0100
TZNAME:CET
DTSTART:20261025T010000
END:STANDARD
END:VTIMEZONE
BEGIN:VEVENT
DTSTART;TZID=Europe/Berlin:20250516T193000
DTEND;TZID=Europe/Berlin:20250516T193000
DTSTAMP:20260424T104055
CREATED:20250509T151734Z
LAST-MODIFIED:20250509T152642Z
UID:4463-1747423800-1747423800@www.uracult.com
SUMMARY:URACult Classics 2025
DESCRIPTION:  \nWir setzen unsere Konzertreihe „URACult Classics“ fort\, dort wo wir im letzten Jahr aufgehört haben\, im Palais Wittgenstein in Düsseldorf. Wir freuen uns auf zwei außergewöhnliche MusikerInnen aus dem Kosovo die seit Jahrzehnten in der klassischen Musikszene des Landes aktiv sind. \nSihana Badivuku-Hoxha (Geige) und Zana Badivuku-Basha (Klavier)\, präsentieren ein buntes Programm mit Werken von internationalen und albanischen Komponisten wie Johann Sebastian Bach\, Antonin Dvorak\, Johannes Brahms\, Bela Bartok\, Rexho Mulliqi\, Pranvera Badivuku\, Valton Beqiri usw.. \nDer musikalischer Abend hat auch eine karitativen Zweck: alle Einnahmen (Eintrittsgelder und Spenden) werden an einer gemeinnützigen Organisation die Menschen mit Autismus und ihrer Angehörigen in Kosovo unterstützt. \nWir freuen uns auf euch! \n  \nKarten gibt es nur an der Abendkasse. \n15\,00 EUR normal/10\,00 EUR ermäßigt \nEinlass: 19:30 Uhr/Beginn 20:00 Uhr. \n  \n16.05.2025 \nPalais Wittgenstein \nBilkerstr. 7-9 \n40213 Düsseldorf
URL:https://www.uracult.com/event/uc-classics-2025/
ATTACH;FMTTYPE=image/png:https://www.uracult.com/wp-content/uploads/Plakat_Classics_2025.png
END:VEVENT
END:VCALENDAR